BEGIN:VCALENDAR
VERSION:2.0
PRODID:-//eventon.com NONSGML v1.0//EN
CALSCALE:GREGORIAN
METHOD:PUBLISH
BEGIN:VEVENT
UID:69e4fa1d28893
DTSTAMP:20260419T155157Z
DTSTART:20240304T153000Z
DTEND:20240304T170000Z
LOCATION:C. Duero\,  1\,  Palma-Palmilla\,  29011 Málaga\,  España C. Duero\,  1\,  Palma-Palmilla\,  29011 Málaga\,  España
SUMMARY:Taller de Yoga
DESCRIPTION:Asociación VIVE Taller de Yoga para mujeres donde se fomenta l
 a actividad física y el autocuidado. Estamos en los Bajos de la Parroquia 
 Jesús Obrero. Más información: 744652682  de 9 a 13h.\nhttps://proyecto
 hogar.es/events/taller-de-yoga/
URL:https://proyectohogar.es/events/taller-de-yoga/
END:VEVENT
END:VCALENDAR